BEGIN:VCALENDAR
VERSION:2.0
PRODID:-//Northfield Union of Youth - ECPv6.15.13//NONSGML v1.0//EN
CALSCALE:GREGORIAN
METHOD:PUBLISH
X-WR-CALNAME:Northfield Union of Youth
X-ORIGINAL-URL:https://unionofyouth.org
X-WR-CALDESC:Events for Northfield Union of Youth
REFRESH-INTERVAL;VALUE=DURATION:PT1H
X-Robots-Tag:noindex
X-PUBLISHED-TTL:PT1H
BEGIN:VTIMEZONE
TZID:America/Chicago
BEGIN:DAYLIGHT
TZOFFSETFROM:-0600
TZOFFSETTO:-0500
TZNAME:CDT
DTSTART:20280312T080000
END:DAYLIGHT
BEGIN:STANDARD
TZOFFSETFROM:-0500
TZOFFSETTO:-0600
TZNAME:CST
DTSTART:20281105T070000
END:STANDARD
BEGIN:DAYLIGHT
TZOFFSETFROM:-0600
TZOFFSETTO:-0500
TZNAME:CDT
DTSTART:20290311T080000
END:DAYLIGHT
BEGIN:STANDARD
TZOFFSETFROM:-0500
TZOFFSETTO:-0600
TZNAME:CST
DTSTART:20291104T070000
END:STANDARD
BEGIN:DAYLIGHT
TZOFFSETFROM:-0600
TZOFFSETTO:-0500
TZNAME:CDT
DTSTART:20300310T080000
END:DAYLIGHT
BEGIN:STANDARD
TZOFFSETFROM:-0500
TZOFFSETTO:-0600
TZNAME:CST
DTSTART:20301103T070000
END:STANDARD
END:VTIMEZONE
BEGIN:VEVENT
DTSTART;TZID=America/Chicago:20290801T173000
DTEND;TZID=America/Chicago:20290801T193000
DTSTAMP:20260419T101047
CREATED:20260324T182540Z
LAST-MODIFIED:20260324T182707Z
UID:10004879-1880299800-1880307000@unionofyouth.org
SUMMARY:Mental Health Night
DESCRIPTION:
URL:https://unionofyouth.org/event/mental-health-with-gabby-2/2029-08-01/
LOCATION:The Key\, 109 6th St W\, Northfield\, MN\, 55057\, United States
CATEGORIES:Mental Health
ATTACH;FMTTYPE=image/png:https://unionofyouth.org/wp-content/uploads/with-Gabby-2.png
END:VEVENT
BEGIN:VEVENT
DTSTART;TZID=America/Chicago:20290808T173000
DTEND;TZID=America/Chicago:20290808T193000
DTSTAMP:20260419T101047
CREATED:20260324T182540Z
LAST-MODIFIED:20260324T182707Z
UID:10004880-1880904600-1880911800@unionofyouth.org
SUMMARY:Mental Health Night
DESCRIPTION:
URL:https://unionofyouth.org/event/mental-health-with-gabby-2/2029-08-08/
LOCATION:The Key\, 109 6th St W\, Northfield\, MN\, 55057\, United States
CATEGORIES:Mental Health
ATTACH;FMTTYPE=image/png:https://unionofyouth.org/wp-content/uploads/with-Gabby-2.png
END:VEVENT
BEGIN:VEVENT
DTSTART;TZID=America/Chicago:20290815T173000
DTEND;TZID=America/Chicago:20290815T193000
DTSTAMP:20260419T101047
CREATED:20260324T182540Z
LAST-MODIFIED:20260324T182707Z
UID:10004881-1881509400-1881516600@unionofyouth.org
SUMMARY:Mental Health Night
DESCRIPTION:
URL:https://unionofyouth.org/event/mental-health-with-gabby-2/2029-08-15/
LOCATION:The Key\, 109 6th St W\, Northfield\, MN\, 55057\, United States
CATEGORIES:Mental Health
ATTACH;FMTTYPE=image/png:https://unionofyouth.org/wp-content/uploads/with-Gabby-2.png
END:VEVENT
BEGIN:VEVENT
DTSTART;TZID=America/Chicago:20290822T173000
DTEND;TZID=America/Chicago:20290822T193000
DTSTAMP:20260419T101047
CREATED:20260324T182540Z
LAST-MODIFIED:20260324T182707Z
UID:10004882-1882114200-1882121400@unionofyouth.org
SUMMARY:Mental Health Night
DESCRIPTION:
URL:https://unionofyouth.org/event/mental-health-with-gabby-2/2029-08-22/
LOCATION:The Key\, 109 6th St W\, Northfield\, MN\, 55057\, United States
CATEGORIES:Mental Health
ATTACH;FMTTYPE=image/png:https://unionofyouth.org/wp-content/uploads/with-Gabby-2.png
END:VEVENT
BEGIN:VEVENT
DTSTART;TZID=America/Chicago:20290829T173000
DTEND;TZID=America/Chicago:20290829T193000
DTSTAMP:20260419T101047
CREATED:20260324T182540Z
LAST-MODIFIED:20260324T182707Z
UID:10004883-1882719000-1882726200@unionofyouth.org
SUMMARY:Mental Health Night
DESCRIPTION:
URL:https://unionofyouth.org/event/mental-health-with-gabby-2/2029-08-29/
LOCATION:The Key\, 109 6th St W\, Northfield\, MN\, 55057\, United States
CATEGORIES:Mental Health
ATTACH;FMTTYPE=image/png:https://unionofyouth.org/wp-content/uploads/with-Gabby-2.png
END:VEVENT
END:VCALENDAR