BEGIN:VCALENDAR
VERSION:2.0
PRODID:-//Northfield Union of Youth - ECPv6.15.13//NONSGML v1.0//EN
CALSCALE:GREGORIAN
METHOD:PUBLISH
X-WR-CALNAME:Northfield Union of Youth
X-ORIGINAL-URL:https://unionofyouth.org
X-WR-CALDESC:Events for Northfield Union of Youth
REFRESH-INTERVAL;VALUE=DURATION:PT1H
X-Robots-Tag:noindex
X-PUBLISHED-TTL:PT1H
BEGIN:VTIMEZONE
TZID:America/Chicago
BEGIN:DAYLIGHT
TZOFFSETFROM:-0600
TZOFFSETTO:-0500
TZNAME:CDT
DTSTART:20280312T080000
END:DAYLIGHT
BEGIN:STANDARD
TZOFFSETFROM:-0500
TZOFFSETTO:-0600
TZNAME:CST
DTSTART:20281105T070000
END:STANDARD
BEGIN:DAYLIGHT
TZOFFSETFROM:-0600
TZOFFSETTO:-0500
TZNAME:CDT
DTSTART:20290311T080000
END:DAYLIGHT
BEGIN:STANDARD
TZOFFSETFROM:-0500
TZOFFSETTO:-0600
TZNAME:CST
DTSTART:20291104T070000
END:STANDARD
BEGIN:DAYLIGHT
TZOFFSETFROM:-0600
TZOFFSETTO:-0500
TZNAME:CDT
DTSTART:20300310T080000
END:DAYLIGHT
BEGIN:STANDARD
TZOFFSETFROM:-0500
TZOFFSETTO:-0600
TZNAME:CST
DTSTART:20301103T070000
END:STANDARD
END:VTIMEZONE
BEGIN:VEVENT
DTSTART;TZID=America/Chicago:20291205T173000
DTEND;TZID=America/Chicago:20291205T193000
DTSTAMP:20260419T160944
CREATED:20260324T182540Z
LAST-MODIFIED:20260324T182707Z
UID:10004897-1891186200-1891193400@unionofyouth.org
SUMMARY:Mental Health Night
DESCRIPTION:
URL:https://unionofyouth.org/event/mental-health-with-gabby-2/2029-12-05/
LOCATION:The Key\, 109 6th St W\, Northfield\, MN\, 55057\, United States
CATEGORIES:Mental Health
ATTACH;FMTTYPE=image/png:https://unionofyouth.org/wp-content/uploads/with-Gabby-2.png
END:VEVENT
BEGIN:VEVENT
DTSTART;TZID=America/Chicago:20291212T173000
DTEND;TZID=America/Chicago:20291212T193000
DTSTAMP:20260419T160944
CREATED:20260324T182540Z
LAST-MODIFIED:20260324T182707Z
UID:10004898-1891791000-1891798200@unionofyouth.org
SUMMARY:Mental Health Night
DESCRIPTION:
URL:https://unionofyouth.org/event/mental-health-with-gabby-2/2029-12-12/
LOCATION:The Key\, 109 6th St W\, Northfield\, MN\, 55057\, United States
CATEGORIES:Mental Health
ATTACH;FMTTYPE=image/png:https://unionofyouth.org/wp-content/uploads/with-Gabby-2.png
END:VEVENT
BEGIN:VEVENT
DTSTART;TZID=America/Chicago:20291219T173000
DTEND;TZID=America/Chicago:20291219T193000
DTSTAMP:20260419T160944
CREATED:20260324T182540Z
LAST-MODIFIED:20260324T182707Z
UID:10004899-1892395800-1892403000@unionofyouth.org
SUMMARY:Mental Health Night
DESCRIPTION:
URL:https://unionofyouth.org/event/mental-health-with-gabby-2/2029-12-19/
LOCATION:The Key\, 109 6th St W\, Northfield\, MN\, 55057\, United States
CATEGORIES:Mental Health
ATTACH;FMTTYPE=image/png:https://unionofyouth.org/wp-content/uploads/with-Gabby-2.png
END:VEVENT
BEGIN:VEVENT
DTSTART;TZID=America/Chicago:20291226T173000
DTEND;TZID=America/Chicago:20291226T193000
DTSTAMP:20260419T160944
CREATED:20260324T182540Z
LAST-MODIFIED:20260324T182707Z
UID:10004900-1893000600-1893007800@unionofyouth.org
SUMMARY:Mental Health Night
DESCRIPTION:
URL:https://unionofyouth.org/event/mental-health-with-gabby-2/2029-12-26/
LOCATION:The Key\, 109 6th St W\, Northfield\, MN\, 55057\, United States
CATEGORIES:Mental Health
ATTACH;FMTTYPE=image/png:https://unionofyouth.org/wp-content/uploads/with-Gabby-2.png
END:VEVENT
END:VCALENDAR